BEGIN:VCALENDAR
VERSION:2.0
PRODID:-//Richard Haizmann Museum | Museum für Moderne Kunst Niebüll - ECPv6.15.20//NONSGML v1.0//EN
CALSCALE:GREGORIAN
METHOD:PUBLISH
X-ORIGINAL-URL:https://www.haizmann-museum.de
X-WR-CALDESC:Veranstaltungen für Richard Haizmann Museum | Museum für Moderne Kunst Niebüll
REFRESH-INTERVAL;VALUE=DURATION:PT1H
X-Robots-Tag:noindex
X-PUBLISHED-TTL:PT1H
BEGIN:VTIMEZONE
TZID:Europe/Berlin
BEGIN:DAYLIGHT
TZOFFSETFROM:+0100
TZOFFSETTO:+0200
TZNAME:CEST
DTSTART:20250330T010000
END:DAYLIGHT
BEGIN:STANDARD
TZOFFSETFROM:+0200
TZOFFSETTO:+0100
TZNAME:CET
DTSTART:20251026T010000
END:STANDARD
BEGIN:DAYLIGHT
TZOFFSETFROM:+0100
TZOFFSETTO:+0200
TZNAME:CEST
DTSTART:20260329T010000
END:DAYLIGHT
BEGIN:STANDARD
TZOFFSETFROM:+0200
TZOFFSETTO:+0100
TZNAME:CET
DTSTART:20261025T010000
END:STANDARD
BEGIN:DAYLIGHT
TZOFFSETFROM:+0100
TZOFFSETTO:+0200
TZNAME:CEST
DTSTART:20270328T010000
END:DAYLIGHT
BEGIN:STANDARD
TZOFFSETFROM:+0200
TZOFFSETTO:+0100
TZNAME:CET
DTSTART:20271031T010000
END:STANDARD
BEGIN:DAYLIGHT
TZOFFSETFROM:+0100
TZOFFSETTO:+0200
TZNAME:CEST
DTSTART:20280326T010000
END:DAYLIGHT
BEGIN:STANDARD
TZOFFSETFROM:+0200
TZOFFSETTO:+0100
TZNAME:CET
DTSTART:20281029T010000
END:STANDARD
END:VTIMEZONE
BEGIN:VEVENT
DTSTART;VALUE=DATE:20260208
DTEND;VALUE=DATE:20260427
DTSTAMP:20260422T154834
CREATED:20260120T103130Z
LAST-MODIFIED:20260204T153538Z
UID:10000200-1770508800-1777247999@www.haizmann-museum.de
SUMMARY:BEGEGNUNG
DESCRIPTION:Einladung zur Ausstellungseröffnung \nBEGEGNUNG \nKunst an der FPS\, Niebüll \nam Sonntag\, dem 08. Februar 2026\, um 17.00 Uhr\, \nim Richard Haizmann Museum\, Niebüll \nEs begrüßt \nDr. Christian Schulz\, RHM. \nEs spricht \nEckhard Kruse\, Schulleiter FPS. \nPreisverleihung \ndes Kunstwettbewerbes für Schüler der FPS\, Niebüll \ndurch Andrea Awe und Niko Bekehermes \nDen musikalischen Rahmen gestalten Annika Plöhn (Gesang)\, Ben Rösch (Gitarre) \n  \n  \nBegegnung \nIn der Flut des heutigen Medienangebotes sich zu fokussieren – Sehen lernen – ist eine der Voraussetzungen\, aus dem bewussten Wahrnehmen und Erkennen Kreativität zu entwickeln\, Reflexion zu erfahren und Identität zu fördern. \nEin vielgestaltiger\, engagierter Kunstunterricht an den Schulen übernimmt dabei eine entscheidende Rolle. Seitens Andrea Awes und Niko Bekehermes` von der Friedrich Paulsen Schule in Niebüll erhalten alle Jahrgänge die notwendigen Impulse\, Gestaltungsmittel bewusst einzusetzen\, damit eigene Bildvorstellungen realisiert werden können. Zunehmend tritt der theoretische Teil\, das Hintergrundwissen\, hinzu\, um so auch Werkanalysen kennenzulernen und diese selbständig umzusetzen. \nAus den Arbeiten der Schüler:innen ist eine Werkschau nahezu aller Jahrgänge des Fachbereiches Kunst an der FPS entstanden. Aus der Vielfalt der Technik und Themenauswahl zeigt sich ein breites Spektrum der Inspiration und in der ermöglichten Anwendung. \nZeichnungen\, Radierungen\, Linolschnitte mit verlorener Platte\, Fotografien\, Plastik oder die freien mit Prosa verbundenen Arbeiten als sogenannte „Kalenderblätter“ legen neben den Wettbewerbsarbeiten in der jeweiligen Technikwahl die fundamentierenden Kenntniss des künstlerisch abstrahierenden Handelns. \nIn Vorbereitung auf die Ausstellung im Richard Haizmann Museum wurde erstmalig schulintern ein Kunstwettbewerb ausgerufen\, deren Preisträger:innen mit je einem Werk an der Ausstellung beteiligt sind. Hierfür wurden alle Schülerinnen und Schüler der verschiedensten Jahrgangsstufen aufgefordert\, daran teilzunehmen. Mit dem Thema des Wettbewerbs „Begegnung“ wurde bewusst auf die künstlerische Freiheit abgezielt. Demzufolge waren die eingereichten Arbeiten vielfältig in der thematischen Umsetzung und unterschiedlich in der Wahl der Materialien. Der Jury standen Parallelwelten\, Bildgeschichten mit tierischen Protagonisten\, Zeichnungen\, Malerei und Plastik zur Auswahl. \n 
URL:https://www.haizmann-museum.de/termin/begegnung/
LOCATION:Haizmann-Museum\, Rathausplatz 2\, Niebüll\, 25899\, Deutschland
CATEGORIES:Ausstellung
END:VEVENT
BEGIN:VEVENT
DTSTART;VALUE=DATE:20260418
DTEND;VALUE=DATE:20260706
DTSTAMP:20260422T154834
CREATED:20260120T103945Z
LAST-MODIFIED:20260420T094039Z
UID:10000202-1776470400-1783295999@www.haizmann-museum.de
SUMMARY:Till Verclas
DESCRIPTION:Einladung zur Ausstellungseröffnung \nam Freitag\, 17. April 2026\, um 19.30 Uhr \nBegrüßung und Einführung \nDr. Christian Schulz \nim Gespräch mit dem Künstler \nWind\, Blitz und Donner. \nEin musikalischer Statusbericht von und mit \nMax Verclas (Trompete) \nTill Wettlaufer (Gitarre) \nChristian Schmidt (Schlagzeug) \n  \nTILL VERCLAS – LICHT UND STRUKTUR\nSkulptur\, Grafik\, Zeichnung \nUnnahbares wird greifbar\, Greifbares wird abstrakt.\nSkulpturen aus Stein\, Holz und Metall sowie Zeichnungen und Grafik beschreiben Licht und Strukturen\, die thematisch vorrangig mit den archaischen Motiven wie Boot\, Rad\, Werkzeug oder Haus das künstlerische Schaffen Verclas’ seit seiner Studienzeit bestimmen.\nZwei- und dreidimensionale Erscheinungen umschreiben vielfältig einzelne Themen mittels unterschiedlicher Technik und Ansicht. Fragil und beständig\, einfühlsam und scheinbar abgrenzend begegnen die einzelnen Werke dem Betrachter.\nDen inversiven Metallskulpturen werden Zeichnungen und Grafik gegenübergestellt\, um Licht und Strukturen nahbar zu präsentieren. Die Grafiken sind mitunter strukturell geschichtet\, auch farblich akzentuiert und perspektivisch erweitert\, um Ordnung zu schaffen oder diese gar zu lösen.\nSkulpturen\, Zeichnungen\, Bilder\, Grafiken entstehen in Serien. Die Ausarbeitungen beschränken sich nicht nur auf einzelne Materialien – vielmehr versucht die Behandlung eines Themas über das zunehmende Verdichten aus der facettenreichen Bearbeitung den Versuch einer allseitgen Erfassung\, die Vielfalt und Potenzierung der Essenz zu begreifen.\nDer Wechsel von Motiv und Grund\, Licht und Schatten\, Positiv und Negativ\, An- bzw. Abwesenheit\, Wechselspiel aus Linien und Flächen\, potenzierten Kontrast in Schwarz und Weiß\, fließende und harte Übergänge beschrieben die jeweiligen Motive auf poetische ihre spezifische Art. \nPrägend für die Virtuosität war die Ausbildung zum Kupferdrucker. Intensive Beschäftigung und der Ausbau einer eigenen Druckerei verschaffte Verclas internationale Anerkennung\, die sich in der Zusammenarbeit mit namhaften Künstlern widerspiegelt. Es begann in einem Atelier\, welches in Räumen einer alten Räucherei dem künstlerischen Wirken Raum gewährte. Industrielle Atmosphäre war unmittelbar zu spüren. Ölige Rauchablagerung und die verbliebenen Reste der Räucheröfen müssen eine spezielle Voraussetzung für die folgenden\, industriell geprägt anmutenden Inspirationen gewesen sein. \nDie ausgeführte Druckgrafik zeugt von technischer Brillanz und Erfindungsreichtum. Die im Selbstverlag erschienenen Bücher sind oftmals eine Kombination seiner druckgrafischen Qualitäten und sind eine bereichernde Konzentration seines Schaffens. Inhaltlich thematisieren die Bücher das Schaffen Verclas’\, ohne sich jedoch festzulegen – vielmehr variieren sie konzeptionell zwischen Katalogen mit eigenen Werken bis hin zu Künstlerbüchern mit Originalgrafik\, die auch in seltenen Fällen in Austausch mit literarischen Texten stehen.\nDie gedruckten Arbeiten variieren zischen Nah- und Fernsicht\, wobei diese sowohl zu einer Einheit verquicken als auch einander gegenüberstehen. Es werden die technischen Möglichkeiten komponierend und variierend reflektiert ausgeschöpft. Vorausschauende Arbeitsweise und handwerkliche Sorgfalt gepaart mit materialtechnischen Kenntnissen lassen die gesamte Bandbreite der Druckverfahren erkennen.\nMotive\, real oder ohne detaillierte Vorgaben oder ständige Kontrolle\, werden in prozessualer Herausbildung in Strukturen geformt\, indem diese in kontrollierte Ordnung mittels zeichnerischer Mittel gesetzt werden. Stets begegnet Verclas seinen Themen spielerisch und mit nie ermüdender Neugierde. Während der gesamten künstlerischen Laufbahn entstanden Arbeiten aus Holz\, Stahl und Bronze – stets auf der Suche nach der Essenz. Es wird weder die inhaltliche noch die handwerkliche Ebene verleugnet. Die Elemente unterliegen einem grundlegenden\, oft tiefgreifenden Wandel von Strukturen\, Prozessen\, Formen oder Zuständen\, der von einem Ist-Zustand zu einem neuen Ziel-Zustand transformiert. Die Konzentration auf das Wesentliche ist irritierend durch seiner Abweichung.
URL:https://www.haizmann-museum.de/termin/till-verclas/
LOCATION:Haizmann-Museum\, Rathausplatz 2\, Niebüll\, 25899\, Deutschland
CATEGORIES:Ausstellung
END:VEVENT
BEGIN:VEVENT
DTSTART;VALUE=DATE:20260509
DTEND;VALUE=DATE:20260706
DTSTAMP:20260422T154834
CREATED:20260422T090509Z
LAST-MODIFIED:20260422T092308Z
UID:10000203-1778284800-1783295999@www.haizmann-museum.de
SUMMARY:Hermann Diestelhorst
DESCRIPTION:
URL:https://www.haizmann-museum.de/termin/hermann-diestelhorst/
LOCATION:Haizmann-Museum\, Rathausplatz 2\, Niebüll\, 25899\, Deutschland
CATEGORIES:Ausstellung
END:VEVENT
BEGIN:VEVENT
DTSTART;VALUE=DATE:20260711
DTEND;VALUE=DATE:20261019
DTSTAMP:20260422T154834
CREATED:20260422T090941Z
LAST-MODIFIED:20260422T090941Z
UID:10000204-1783728000-1792367999@www.haizmann-museum.de
SUMMARY:Ulrike Pisch
DESCRIPTION:
URL:https://www.haizmann-museum.de/termin/ulrike-pisch/
LOCATION:Haizmann-Museum\, Rathausplatz 2\, Niebüll\, 25899\, Deutschland
CATEGORIES:Ausstellung
END:VEVENT
BEGIN:VEVENT
DTSTART;VALUE=DATE:20260719
DTEND;VALUE=DATE:20261005
DTSTAMP:20260422T154834
CREATED:20260422T091139Z
LAST-MODIFIED:20260422T092412Z
UID:10000205-1784419200-1791158399@www.haizmann-museum.de
SUMMARY:marehalm ART award
DESCRIPTION:
URL:https://www.haizmann-museum.de/termin/marehalm-art-award-3/
LOCATION:Haizmann-Museum\, Rathausplatz 2\, Niebüll\, 25899\, Deutschland
CATEGORIES:Ausstellung
END:VEVENT
BEGIN:VEVENT
DTSTART;VALUE=DATE:20261010
DTEND;VALUE=DATE:20261207
DTSTAMP:20260422T154834
CREATED:20260422T091307Z
LAST-MODIFIED:20260422T092341Z
UID:10000206-1791590400-1796601599@www.haizmann-museum.de
SUMMARY:Jörg Bernkopf
DESCRIPTION:
URL:https://www.haizmann-museum.de/termin/joerg-bernkopf/
LOCATION:Haizmann-Museum\, Rathausplatz 2\, Niebüll\, 25899\, Deutschland
CATEGORIES:Ausstellung
END:VEVENT
BEGIN:VEVENT
DTSTART;VALUE=DATE:20261024
DTEND;VALUE=DATE:20261123
DTSTAMP:20260422T154834
CREATED:20260422T091516Z
LAST-MODIFIED:20260422T091516Z
UID:10000207-1792800000-1795391999@www.haizmann-museum.de
SUMMARY:Johann Büsen    Lucid Dreams
DESCRIPTION:
URL:https://www.haizmann-museum.de/termin/johann-buesen-lucid-dreams/
LOCATION:Haizmann-Museum\, Rathausplatz 2\, Niebüll\, 25899\, Deutschland
CATEGORIES:Ausstellung
END:VEVENT
BEGIN:VEVENT
DTSTART;VALUE=DATE:20261128
DTEND;VALUE=DATE:20270308
DTSTAMP:20260422T154834
CREATED:20260422T091733Z
LAST-MODIFIED:20260422T091733Z
UID:10000208-1795824000-1804463999@www.haizmann-museum.de
SUMMARY:Image and Gesture.
DESCRIPTION:
URL:https://www.haizmann-museum.de/termin/image-and-gesture/
LOCATION:Haizmann-Museum\, Rathausplatz 2\, Niebüll\, 25899\, Deutschland
CATEGORIES:Ausstellung
END:VEVENT
BEGIN:VEVENT
DTSTART;VALUE=DATE:20261212
DTEND;VALUE=DATE:20270222
DTSTAMP:20260422T154834
CREATED:20260422T091912Z
LAST-MODIFIED:20260422T092231Z
UID:10000209-1797033600-1803254399@www.haizmann-museum.de
SUMMARY:Ellen Ribbe
DESCRIPTION:
URL:https://www.haizmann-museum.de/termin/ellen-ribbe/
LOCATION:Haizmann-Museum\, Rathausplatz 2\, Niebüll\, 25899\, Deutschland
CATEGORIES:Ausstellung
END:VEVENT
END:VCALENDAR